Package: hiReadsProcessor Version: 1.42.0 Command: /Library/Frameworks/R.framework/Resources/bin/R CMD INSTALL hiReadsProcessor StartedAt: 2025-03-31 16:03:28 -0400 (Mon, 31 Mar 2025) EndedAt: 2025-03-31 16:04:11 -0400 (Mon, 31 Mar 2025) EllapsedTime: 43.1 seconds RetCode: 0 Status: OK