Package: hiReadsProcessor Version: 1.42.0 Command: /Library/Frameworks/R.framework/Resources/bin/R CMD check --install=check:hiReadsProcessor.install-out.txt --library=/Library/Frameworks/R.framework/Resources/library --no-vignettes --timings hiReadsProcessor_1.42.0.tar.gz StartedAt: 2025-04-01 21:52:14 -0400 (Tue, 01 Apr 2025) EndedAt: 2025-04-01 21:57:19 -0400 (Tue, 01 Apr 2025) EllapsedTime: 304.9 seconds RetCode: 0 Status: OK CheckDir: hiReadsProcessor.Rcheck Warnings: 0