Package: hiAnnotator Version: 1.40.0 Command: /Library/Frameworks/R.framework/Resources/bin/R CMD check --install=check:hiAnnotator.install-out.txt --library=/Library/Frameworks/R.framework/Resources/library --no-vignettes --timings hiAnnotator_1.40.0.tar.gz StartedAt: 2025-04-01 04:09:24 -0400 (Tue, 01 Apr 2025) EndedAt: 2025-04-01 04:17:24 -0400 (Tue, 01 Apr 2025) EllapsedTime: 480.4 seconds RetCode: 0 Status: OK CheckDir: hiAnnotator.Rcheck Warnings: 0