Package: hermes Version: 1.10.0 Command: /home/biocbuild/R/R/bin/R CMD build --keep-empty-dirs --no-resave-data hermes StartedAt: 2025-04-01 00:09:08 -0000 (Tue, 01 Apr 2025) EndedAt: 2025-04-01 00:11:15 -0000 (Tue, 01 Apr 2025) EllapsedTime: 126.1 seconds RetCode: 0 Status: OK PackageFile: hermes_1.10.0.tar.gz PackageFileSize: 3.537 MiB