Package: hermes Version: 1.10.0 Command: /Library/Frameworks/R.framework/Resources/bin/R CMD check --install=check:hermes.install-out.txt --library=/Library/Frameworks/R.framework/Resources/library --no-vignettes --timings hermes_1.10.0.tar.gz StartedAt: 2025-04-01 04:08:45 -0400 (Tue, 01 Apr 2025) EndedAt: 2025-04-01 04:25:47 -0400 (Tue, 01 Apr 2025) EllapsedTime: 1022.2 seconds RetCode: 0 Status: OK CheckDir: hermes.Rcheck Warnings: 0