Package: hermes Version: 1.10.0 Command: /Library/Frameworks/R.framework/Resources/bin/R CMD build --keep-empty-dirs --no-resave-data hermes StartedAt: 2025-03-31 19:18:05 -0400 (Mon, 31 Mar 2025) EndedAt: 2025-03-31 19:21:39 -0400 (Mon, 31 Mar 2025) EllapsedTime: 213.6 seconds RetCode: 0 Status: OK PackageFile: hermes_1.10.0.tar.gz PackageFileSize: 4.002 MiB