Package: hermes Version: 1.10.0 Command: /Library/Frameworks/R.framework/Resources/bin/R CMD INSTALL hermes StartedAt: 2025-03-31 16:30:28 -0400 (Mon, 31 Mar 2025) EndedAt: 2025-03-31 16:31:00 -0400 (Mon, 31 Mar 2025) EllapsedTime: 32.1 seconds RetCode: 0 Status: OK