Package: hermes Version: 1.10.0 Command: /Library/Frameworks/R.framework/Resources/bin/R CMD build --keep-empty-dirs --no-resave-data hermes StartedAt: 2025-04-01 01:07:31 -0400 (Tue, 01 Apr 2025) EndedAt: 2025-04-01 01:09:29 -0400 (Tue, 01 Apr 2025) EllapsedTime: 117.5 seconds RetCode: 0 Status: OK PackageFile: hermes_1.10.0.tar.gz PackageFileSize: 4 MiB