Package: heatmaps Version: 1.30.0 Command: /Library/Frameworks/R.framework/Resources/bin/R CMD check --install=check:heatmaps.install-out.txt --library=/Library/Frameworks/R.framework/Resources/library --no-vignettes --timings heatmaps_1.30.0.tar.gz StartedAt: 2025-04-01 04:07:36 -0400 (Tue, 01 Apr 2025) EndedAt: 2025-04-01 04:11:47 -0400 (Tue, 01 Apr 2025) EllapsedTime: 251.1 seconds RetCode: 0 Status: OK CheckDir: heatmaps.Rcheck Warnings: 0