Package: hdxmsqc Version: 1.2.0 Command: chmod a+r hdxmsqc -R && F:\biocbuild\bbs-3.20-bioc\R\bin\R.exe CMD build --keep-empty-dirs --no-resave-data hdxmsqc StartedAt: 2025-03-31 19:29:11 -0400 (Mon, 31 Mar 2025) EndedAt: 2025-03-31 19:35:04 -0400 (Mon, 31 Mar 2025) EllapsedTime: 353.9 seconds RetCode: 0 Status: OK PackageFile: hdxmsqc_1.2.0.tar.gz PackageFileSize: 3.208 MiB