Package: hca Version: 1.14.1 Command: /home/biocbuild/bbs-3.20-bioc/R/bin/R CMD INSTALL hca StartedAt: 2025-03-31 15:36:43 -0400 (Mon, 31 Mar 2025) EndedAt: 2025-03-31 15:36:50 -0400 (Mon, 31 Mar 2025) EllapsedTime: 6.4 seconds RetCode: 0 Status: OK