Package: h5vc Version: 2.40.1 Command: /home/biocbuild/bbs-3.20-bioc/R/bin/R CMD check --install=check:h5vc.install-out.txt --library=/home/biocbuild/bbs-3.20-bioc/R/site-library --timings h5vc_2.40.1.tar.gz StartedAt: 2025-03-31 22:51:02 -0400 (Mon, 31 Mar 2025) EndedAt: 2025-03-31 22:57:43 -0400 (Mon, 31 Mar 2025) EllapsedTime: 400.4 seconds RetCode: 0 Status: WARNINGS CheckDir: h5vc.Rcheck Warnings: 1