Package: h5vc Version: 2.40.1 Command: /Library/Frameworks/R.framework/Resources/bin/R CMD build --keep-empty-dirs --no-resave-data h5vc StartedAt: 2025-04-01 01:01:40 -0400 (Tue, 01 Apr 2025) EndedAt: 2025-04-01 01:06:56 -0400 (Tue, 01 Apr 2025) EllapsedTime: 315.4 seconds RetCode: 0 Status: OK PackageFile: h5vc_2.40.1.tar.gz PackageFileSize: 1.69 MiB