Package: gwasurvivr Version: 1.24.0 Command: /home/biocbuild/R/R/bin/R CMD check --install=check:gwasurvivr.install-out.txt --library=/home/biocbuild/R/R/site-library --no-vignettes --timings gwasurvivr_1.24.0.tar.gz StartedAt: 2025-04-01 07:14:55 -0000 (Tue, 01 Apr 2025) EndedAt: 2025-04-01 07:22:34 -0000 (Tue, 01 Apr 2025) EllapsedTime: 458.4 seconds RetCode: 0 Status: OK CheckDir: gwasurvivr.Rcheck Warnings: 0