Package: gwasurvivr Version: 1.24.0 Command: chmod a+r gwasurvivr -R && F:\biocbuild\bbs-3.20-bioc\R\bin\R.exe CMD build --keep-empty-dirs --no-resave-data gwasurvivr StartedAt: 2025-03-31 19:26:57 -0400 (Mon, 31 Mar 2025) EndedAt: 2025-03-31 19:29:58 -0400 (Mon, 31 Mar 2025) EllapsedTime: 180.3 seconds RetCode: 0 Status: OK PackageFile: gwasurvivr_1.24.0.tar.gz PackageFileSize: 343.5 KiB