Package: gwasurvivr Version: 1.24.0 Command: /Library/Frameworks/R.framework/Resources/bin/R CMD build --keep-empty-dirs --no-resave-data gwasurvivr StartedAt: 2025-04-01 01:01:05 -0400 (Tue, 01 Apr 2025) EndedAt: 2025-04-01 01:04:01 -0400 (Tue, 01 Apr 2025) EllapsedTime: 176.4 seconds RetCode: 0 Status: OK PackageFile: gwasurvivr_1.24.0.tar.gz PackageFileSize: 343 KiB