Package: gwascat Version: 2.38.0 Command: /home/biocbuild/bbs-3.20-bioc/R/bin/R CMD check --install=check:gwascat.install-out.txt --library=/home/biocbuild/bbs-3.20-bioc/R/site-library --timings gwascat_2.38.0.tar.gz StartedAt: 2025-03-31 22:49:43 -0400 (Mon, 31 Mar 2025) EndedAt: 2025-03-31 22:59:19 -0400 (Mon, 31 Mar 2025) EllapsedTime: 575.7 seconds RetCode: 0 Status: OK CheckDir: gwascat.Rcheck Warnings: 0