Package: gwascat Version: 2.38.0 Command: /Library/Frameworks/R.framework/Resources/bin/R CMD INSTALL gwascat StartedAt: 2025-03-31 17:30:31 -0400 (Mon, 31 Mar 2025) EndedAt: 2025-03-31 17:31:34 -0400 (Mon, 31 Mar 2025) EllapsedTime: 62.2 seconds RetCode: 0 Status: OK