Package: gtrellis Version: 1.38.0 Command: /home/biocbuild/R/R/bin/R CMD INSTALL gtrellis StartedAt: 2025-03-31 20:19:10 -0000 (Mon, 31 Mar 2025) EndedAt: 2025-03-31 20:19:24 -0000 (Mon, 31 Mar 2025) EllapsedTime: 13.8 seconds RetCode: 0 Status: OK