Package: gtrellis Version: 1.38.0 Command: /home/biocbuild/R/R/bin/R CMD build --keep-empty-dirs --no-resave-data gtrellis StartedAt: 2025-04-01 00:04:45 -0000 (Tue, 01 Apr 2025) EndedAt: 2025-04-01 00:08:44 -0000 (Tue, 01 Apr 2025) EllapsedTime: 239.2 seconds RetCode: 0 Status: OK PackageFile: gtrellis_1.38.0.tar.gz PackageFileSize: 1.656 MiB