Package: gtrellis Version: 1.38.0 Command: /Library/Frameworks/R.framework/Resources/bin/R CMD INSTALL gtrellis StartedAt: 2025-03-31 15:20:30 -0400 (Mon, 31 Mar 2025) EndedAt: 2025-03-31 15:20:43 -0400 (Mon, 31 Mar 2025) EllapsedTime: 12.8 seconds RetCode: 0 Status: OK