Package: gtrellis Version: 1.38.0 Command: /Library/Frameworks/R.framework/Resources/bin/R CMD check --install=check:gtrellis.install-out.txt --library=/Library/Frameworks/R.framework/Resources/library --no-vignettes --timings gtrellis_1.38.0.tar.gz StartedAt: 2025-04-01 21:22:39 -0400 (Tue, 01 Apr 2025) EndedAt: 2025-04-01 21:24:15 -0400 (Tue, 01 Apr 2025) EllapsedTime: 95.6 seconds RetCode: 0 Status: OK CheckDir: gtrellis.Rcheck Warnings: 0