Package: gtrellis Version: 1.38.0 Command: /Library/Frameworks/R.framework/Resources/bin/R CMD build --keep-empty-dirs --no-resave-data gtrellis StartedAt: 2025-04-01 00:55:03 -0400 (Tue, 01 Apr 2025) EndedAt: 2025-04-01 00:57:25 -0400 (Tue, 01 Apr 2025) EllapsedTime: 141.8 seconds RetCode: 0 Status: OK PackageFile: gtrellis_1.38.0.tar.gz PackageFileSize: 4.044 MiB