Package: gtrellis Version: 1.38.0 Command: rm -rf gtrellis.buildbin-libdir && mkdir gtrellis.buildbin-libdir && /Users/biocbuild/BBS/utils/build-universal.sh gtrellis_1.38.0.tar.gz /Library/Frameworks/R.framework/Resources/bin/R gtrellis.buildbin-libdir StartedAt: 2025-04-02 14:39:36 -0400 (Wed, 02 Apr 2025) EndedAt: 2025-04-02 14:39:51 -0400 (Wed, 02 Apr 2025) EllapsedTime: 15.6 seconds RetCode: 0 Status: OK PackageFile: gtrellis_1.38.0.tgz PackageFileSize: 4.113 MiB