Package: groHMM Version: 1.40.3 Command: /Library/Frameworks/R.framework/Resources/bin/R CMD INSTALL groHMM StartedAt: 2025-03-31 15:30:29 -0400 (Mon, 31 Mar 2025) EndedAt: 2025-03-31 15:31:43 -0400 (Mon, 31 Mar 2025) EllapsedTime: 74.6 seconds RetCode: 0 Status: OK