Package: groHMM Version: 1.40.3 Command: /Library/Frameworks/R.framework/Resources/bin/R CMD build --keep-empty-dirs --no-resave-data groHMM StartedAt: 2025-03-31 19:09:41 -0400 (Mon, 31 Mar 2025) EndedAt: 2025-03-31 19:14:39 -0400 (Mon, 31 Mar 2025) EllapsedTime: 298.4 seconds RetCode: 0 Status: OK PackageFile: groHMM_1.40.3.tar.gz PackageFileSize: 4.153 MiB