Package: graphite Version: 1.52.0 Command: chmod a+r graphite -R && F:\biocbuild\bbs-3.20-bioc\R\bin\R.exe CMD build --keep-empty-dirs --no-resave-data graphite StartedAt: 2025-03-31 19:22:46 -0400 (Mon, 31 Mar 2025) EndedAt: 2025-03-31 19:24:17 -0400 (Mon, 31 Mar 2025) EllapsedTime: 90.7 seconds RetCode: 0 Status: OK PackageFile: graphite_1.52.0.tar.gz PackageFileSize: 765.6 KiB