Package: graphite Version: 1.52.0 Command: /Library/Frameworks/R.framework/Resources/bin/R CMD build --keep-empty-dirs --no-resave-data graphite StartedAt: 2025-03-31 19:08:08 -0400 (Mon, 31 Mar 2025) EndedAt: 2025-03-31 19:10:13 -0400 (Mon, 31 Mar 2025) EllapsedTime: 124.6 seconds RetCode: 0 Status: OK PackageFile: graphite_1.52.0.tar.gz PackageFileSize: 766.6 KiB