Package: graphite Version: 1.52.0 Command: rm -rf graphite.buildbin-libdir && mkdir graphite.buildbin-libdir && /Users/biocbuild/BBS/utils/build-universal.sh graphite_1.52.0.tar.gz /Library/Frameworks/R.framework/Resources/bin/R graphite.buildbin-libdir StartedAt: 2025-04-01 12:00:42 -0400 (Tue, 01 Apr 2025) EndedAt: 2025-04-01 12:01:14 -0400 (Tue, 01 Apr 2025) EllapsedTime: 32.8 seconds RetCode: 0 Status: OK PackageFile: graphite_1.52.0.tgz PackageFileSize: 903.4 KiB