Package: graph Version: 1.84.1 Command: /home/biocbuild/R/R/bin/R CMD build --keep-empty-dirs --no-resave-data graph StartedAt: 2025-03-31 23:59:24 -0000 (Mon, 31 Mar 2025) EndedAt: 2025-04-01 00:00:03 -0000 (Tue, 01 Apr 2025) EllapsedTime: 39.0 seconds RetCode: 0 Status: OK PackageFile: graph_1.84.1.tar.gz PackageFileSize: 1.514 MiB