Package: graph Version: 1.84.1 Command: F:\biocbuild\bbs-3.20-bioc\R\bin\R.exe CMD check --no-multiarch --install=check:graph.install-out.txt --library=F:\biocbuild\bbs-3.20-bioc\R\library --no-vignettes --timings graph_1.84.1.tar.gz StartedAt: 2025-04-01 02:12:57 -0400 (Tue, 01 Apr 2025) EndedAt: 2025-04-01 02:14:16 -0400 (Tue, 01 Apr 2025) EllapsedTime: 79.0 seconds RetCode: 0 Status: OK CheckDir: graph.Rcheck Warnings: 0