Package: graph Version: 1.84.1 Command: rm -rf graph.buildbin-libdir && mkdir graph.buildbin-libdir && /Users/biocbuild/BBS/utils/build-universal.sh graph_1.84.1.tar.gz /Library/Frameworks/R.framework/Resources/bin/R graph.buildbin-libdir StartedAt: 2025-04-02 14:38:01 -0400 (Wed, 02 Apr 2025) EndedAt: 2025-04-02 14:38:17 -0400 (Wed, 02 Apr 2025) EllapsedTime: 16.6 seconds RetCode: 0 Status: OK PackageFile: graph_1.84.1.tgz PackageFileSize: 2.107 MiB