Package: graper Version: 1.22.0 Command: /Library/Frameworks/R.framework/Resources/bin/R CMD build --keep-empty-dirs --no-resave-data graper StartedAt: 2025-04-01 00:44:32 -0400 (Tue, 01 Apr 2025) EndedAt: 2025-04-01 00:44:43 -0400 (Tue, 01 Apr 2025) EllapsedTime: 11.5 seconds RetCode: 1 Status: ERROR PackageFile: None PackageFileSize: NA