Package: gpuMagic Version: 1.22.0 Command: /home/biocbuild/R/R/bin/R CMD INSTALL gpuMagic StartedAt: 2025-03-31 20:37:12 -0000 (Mon, 31 Mar 2025) EndedAt: 2025-03-31 20:37:38 -0000 (Mon, 31 Mar 2025) EllapsedTime: 26.3 seconds RetCode: 0 Status: OK