Package: gpuMagic Version: 1.22.0 Command: /home/biocbuild/R/R/bin/R CMD build --keep-empty-dirs --no-resave-data gpuMagic StartedAt: 2025-03-31 23:57:50 -0000 (Mon, 31 Mar 2025) EndedAt: 2025-03-31 23:58:39 -0000 (Mon, 31 Mar 2025) EllapsedTime: 49.0 seconds RetCode: 0 Status: OK PackageFile: gpuMagic_1.22.0.tar.gz PackageFileSize: 868.6 KiB