Package: gpuMagic Version: 1.22.0 Command: F:\biocbuild\bbs-3.20-bioc\R\bin\R.exe CMD INSTALL gpuMagic StartedAt: 2025-03-31 15:37:05 -0400 (Mon, 31 Mar 2025) EndedAt: 2025-03-31 15:38:46 -0400 (Mon, 31 Mar 2025) EllapsedTime: 101.5 seconds RetCode: 0 Status: OK