Package: gpuMagic Version: 1.22.0 Command: /Library/Frameworks/R.framework/Resources/bin/R CMD build --keep-empty-dirs --no-resave-data gpuMagic StartedAt: 2025-04-01 00:40:54 -0400 (Tue, 01 Apr 2025) EndedAt: 2025-04-01 00:41:23 -0400 (Tue, 01 Apr 2025) EllapsedTime: 28.7 seconds RetCode: 1 Status: ERROR PackageFile: None PackageFileSize: NA