Package: gpls Version: 1.78.0 Command: F:\biocbuild\bbs-3.20-bioc\R\bin\R.exe CMD INSTALL gpls StartedAt: 2025-03-31 15:20:57 -0400 (Mon, 31 Mar 2025) EndedAt: 2025-03-31 15:21:11 -0400 (Mon, 31 Mar 2025) EllapsedTime: 13.2 seconds RetCode: 0 Status: OK