Package: gpls Version: 1.78.0 Command: rm -rf gpls.buildbin-libdir && mkdir gpls.buildbin-libdir && F:\biocbuild\bbs-3.20-bioc\R\bin\R.exe CMD INSTALL --build --library=gpls.buildbin-libdir gpls_1.78.0.tar.gz StartedAt: 2025-04-01 08:20:13 -0400 (Tue, 01 Apr 2025) EndedAt: 2025-04-01 08:20:22 -0400 (Tue, 01 Apr 2025) EllapsedTime: 9.7 seconds RetCode: 0 Status: OK PackageFile: gpls_1.78.0.zip PackageFileSize: 168.7 KiB