Package: gpls Version: 1.78.0 Command: /home/biocbuild/bbs-3.20-bioc/R/bin/R CMD check --install=check:gpls.install-out.txt --library=/home/biocbuild/bbs-3.20-bioc/R/site-library --timings gpls_1.78.0.tar.gz StartedAt: 2025-03-31 22:43:08 -0400 (Mon, 31 Mar 2025) EndedAt: 2025-03-31 22:43:31 -0400 (Mon, 31 Mar 2025) EllapsedTime: 23.0 seconds RetCode: 0 Status: WARNINGS CheckDir: gpls.Rcheck Warnings: 1