Package: goseq Version: 1.58.0 Command: /Library/Frameworks/R.framework/Resources/bin/R CMD check --install=check:goseq.install-out.txt --library=/Library/Frameworks/R.framework/Resources/library --no-vignettes --timings goseq_1.58.0.tar.gz StartedAt: 2025-04-01 21:03:57 -0400 (Tue, 01 Apr 2025) EndedAt: 2025-04-01 21:09:51 -0400 (Tue, 01 Apr 2025) EllapsedTime: 354.9 seconds RetCode: 0 Status: OK CheckDir: goseq.Rcheck Warnings: 0