Package: goTools Version: 1.80.0 Command: /home/biocbuild/R/R/bin/R CMD build --keep-empty-dirs --no-resave-data goTools StartedAt: 2025-03-31 23:57:06 -0000 (Mon, 31 Mar 2025) EndedAt: 2025-03-31 23:57:29 -0000 (Mon, 31 Mar 2025) EllapsedTime: 23.0 seconds RetCode: 0 Status: OK PackageFile: goTools_1.80.0.tar.gz PackageFileSize: 234.9 KiB