Package: goTools Version: 1.80.0 Command: F:\biocbuild\bbs-3.20-bioc\R\bin\R.exe CMD INSTALL goTools StartedAt: 2025-03-31 15:48:10 -0400 (Mon, 31 Mar 2025) EndedAt: 2025-03-31 15:48:26 -0400 (Mon, 31 Mar 2025) EllapsedTime: 16.3 seconds RetCode: 0 Status: OK