Package: goTools Version: 1.80.0 Command: rm -rf goTools.buildbin-libdir && mkdir goTools.buildbin-libdir && F:\biocbuild\bbs-3.20-bioc\R\bin\R.exe CMD INSTALL --build --library=goTools.buildbin-libdir goTools_1.80.0.tar.gz StartedAt: 2025-04-01 08:20:09 -0400 (Tue, 01 Apr 2025) EndedAt: 2025-04-01 08:20:32 -0400 (Tue, 01 Apr 2025) EllapsedTime: 22.2 seconds RetCode: 0 Status: OK PackageFile: goTools_1.80.0.zip PackageFileSize: 127.2 KiB