Package: goTools Version: 1.80.0 Command: /Library/Frameworks/R.framework/Resources/bin/R CMD check --install=check:goTools.install-out.txt --library=/Library/Frameworks/R.framework/Resources/library --no-vignettes --timings goTools_1.80.0.tar.gz StartedAt: 2025-04-01 03:53:13 -0400 (Tue, 01 Apr 2025) EndedAt: 2025-04-01 03:56:15 -0400 (Tue, 01 Apr 2025) EllapsedTime: 182.1 seconds RetCode: 0 Status: OK CheckDir: goTools.Rcheck Warnings: 0