Package: goTools Version: 1.80.0 Command: /Library/Frameworks/R.framework/Resources/bin/R CMD build --keep-empty-dirs --no-resave-data goTools StartedAt: 2025-03-31 19:06:32 -0400 (Mon, 31 Mar 2025) EndedAt: 2025-03-31 19:07:18 -0400 (Mon, 31 Mar 2025) EllapsedTime: 46.4 seconds RetCode: 0 Status: OK PackageFile: goTools_1.80.0.tar.gz PackageFileSize: 241.9 KiB