Package: goTools Version: 1.80.0 Command: /Library/Frameworks/R.framework/Resources/bin/R CMD build --keep-empty-dirs --no-resave-data goTools StartedAt: 2025-04-01 00:40:12 -0400 (Tue, 01 Apr 2025) EndedAt: 2025-04-01 00:40:40 -0400 (Tue, 01 Apr 2025) EllapsedTime: 27.6 seconds RetCode: 0 Status: OK PackageFile: goTools_1.80.0.tar.gz PackageFileSize: 241.6 KiB