Package: goProfiles Version: 1.68.0 Command: /Library/Frameworks/R.framework/Resources/bin/R CMD check --install=check:goProfiles.install-out.txt --library=/Library/Frameworks/R.framework/Resources/library --no-vignettes --timings goProfiles_1.68.0.tar.gz StartedAt: 2025-04-01 03:51:17 -0400 (Tue, 01 Apr 2025) EndedAt: 2025-04-01 03:56:47 -0400 (Tue, 01 Apr 2025) EllapsedTime: 330.2 seconds RetCode: 0 Status: OK CheckDir: goProfiles.Rcheck Warnings: 0