Package: gmoviz Version: 1.18.0 Command: /Library/Frameworks/R.framework/Resources/bin/R CMD build --keep-empty-dirs --no-resave-data gmoviz StartedAt: 2025-03-31 19:03:36 -0400 (Mon, 31 Mar 2025) EndedAt: 2025-03-31 19:07:33 -0400 (Mon, 31 Mar 2025) EllapsedTime: 237.5 seconds RetCode: 0 Status: OK PackageFile: gmoviz_1.18.0.tar.gz PackageFileSize: 6.706 MiB