Package: gmapR Version: 1.48.0 Command: /home/biocbuild/R/R/bin/R CMD INSTALL gmapR StartedAt: 2025-03-31 20:34:32 -0000 (Mon, 31 Mar 2025) EndedAt: 2025-03-31 20:44:16 -0000 (Mon, 31 Mar 2025) EllapsedTime: 583.5 seconds RetCode: 0 Status: OK